Workbook
Name 通所系: 介護保険指定事業所一覧!#REF!
Name 通所系: '施設・事業所別申請額一覧（サービス別一覧）'!$J$7:$J$19
Name 入所・居住系: 介護保険指定事業所一覧!#REF!
Name 入所・居住系: '施設・事業所別申請額一覧（サービス別一覧）'!$J$1:$J$6
Name 訪問系: 介護保険指定事業所一覧!#REF!
Name 訪問系: '施設・事業所別申請額一覧（サービス別一覧）'!$J$20:$J$35

Sheet 申請書
R1: 黄色セルに入力をお願いします。
C2: 厚木市障害福祉サービス事業所等物価高騰対応支援金交付申請書 | R2: 入力後は、塗りつぶしがなくなります。
J4: 令和 | L4: 年 | N4: 月 | P4: 日 | R4: 緑色セルはプルダウンから「□」か「■」を選択してください。
C5: （宛先） | R5: 該当するものは「■」にしてください。
C6: 厚木市長 | R6: ※誓約事項はすべてが「■」になっていない場合、申請できません。
G8: 法人所在地
G9: 法人名
G10: 法人代表者
C12: 「厚木市障害福祉サービス事業所等物価高騰対応支援金」について、次のとおり添付書類を添えて申請します。
B15: 1 | C15: 事業 名称 | D15: 厚木市障害福祉サービス事業所等物価高騰対応支援金
B16: 2 | C16: 補助金 交付 申請額 | D16: =SUM('施設・事業所別申請額一覧（サービス別一覧）'!H2:H25) -> 0 | M16: 円
B17: 3 | C17: 事業所 運営 状況
D18: □ | E18: 市内に所在する介護保険指定事業所を運営していない
D19: □ | E19: 市内に所在する介護保険指定事業所を運営している
B21: 4
D22: 本支援金の申請に当たって、次の事項を誓約します。
D24: □ | E24: (1) | F24: 施設・事業所別申請額一覧（サービス別一覧）に記載した障害福祉サービス事業所等は、現に運営しており、令和９年３月31日までの間、事業の廃止又は事業の休止をせず、運営を継続する予定です。
C26: 誓約 事項
D27: □ | E27: (2) | F27: 代表者又は役員のうちに暴力団員に該当する者はおりません。暴力団員でないこと確認するため、本様式に記載された情報を神奈川県警察本部に照会することについて異議ありません。
D30: □ | E30: (3) | F30: 申請書の記載事項について虚偽であることが判明した場合や、支給要件に該当しないことが判明した場合には、本支援金を返還します。
B33: 添付書類
B34: 施設・事業所別申請額一覧（サービス別一覧）
B35: =IF(D19="□","","介護保険指定事業所一覧")

Sheet 施設・事業所別申請額一覧（サービス別一覧）
A1: No. | B1: 事業所番号 | C1: 施設・事業所名 | D1: サービス種別 | E1: 定員 （入所・居住系 事業所のみ） | F1: 事業所所在地 | G1: 事業の開始日 | H1: 当該施設・事業所に係る支給申請額 | I1: 1 | J1: 障害者支援施設
A2: 1 | F2: 厚木市 | H2: {=_xlfn.IFS(D2="","",D2=$J$1,E2*7500,D2=$J$2,E2*7500,D2=$J$3,E2*7500,D2=$J$4,E2*7500,D2=$J$5,E2*7500,D2=$J$6,E2*7500,D2=$J$7,25000,D2=$J$8,25000,D2=$J$9,25000,D2=$J$10,25000,D2=$J$11,25000,D2=$J$12,25000,D2=$J$13,25000,D2=$J$14,25000,D2=$J$15,25000,D2=$J$16,25000,D2=$J$17,25000,D2=$J$18,25000,D2=$J$19,25000,D2=$J$20,15000,D2=$J$21,15000,D2=$J$22,15000,D2=$J$23,15000,D2=$J$24,15000,D2=$J$25,15000,D2=$J$26,15000,D2=$J$27,15000,D2=$J$28,15000,D2=$J$29,15000,D2=$J$30,15000,D2=$J$31,15000,D2=$J$32,15000,D2=$J$33,15000,D2=$J$34,15000,D2=$J$35,15000)} | I2: 2 | J2: 自立訓練（生活訓練（宿泊型のみ））
A3: 2 | F3: 厚木市 | H3: {=_xlfn.IFS(D3="","",D3=$J$1,E3*7500,D3=$J$2,E3*7500,D3=$J$3,E3*7500,D3=$J$4,E3*7500,D3=$J$5,E3*7500,D3=$J$6,E3*7500,D3=$J$7,25000,D3=$J$8,25000,D3=$J$9,25000,D3=$J$10,25000,D3=$J$11,25000,D3=$J$12,25000,D3=$J$13,25000,D3=$J$14,25000,D3=$J$15,25000,D3=$J$16,25000,D3=$J$17,25000,D3=$J$18,25000,D3=$J$19,25000,D3=$J$20,15000,D3=$J$21,15000,D3=$J$22,15000,D3=$J$23,15000,D3=$J$24,15000,D3=$J$25,15000,D3=$J$26,15000,D3=$J$27,15000,D3=$J$28,15000,D3=$J$29,15000,D3=$J$30,15000,D3=$J$31,15000,D3=$J$32,15000,D3=$J$33,15000,D3=$J$34,15000,D3=$J$35,15000)} | I3: 3 | J3: 共同生活援助
A4: 3 | F4: 厚木市 | H4: {=_xlfn.IFS(D4="","",D4=$J$1,E4*7500,D4=$J$2,E4*7500,D4=$J$3,E4*7500,D4=$J$4,E4*7500,D4=$J$5,E4*7500,D4=$J$6,E4*7500,D4=$J$7,25000,D4=$J$8,25000,D4=$J$9,25000,D4=$J$10,25000,D4=$J$11,25000,D4=$J$12,25000,D4=$J$13,25000,D4=$J$14,25000,D4=$J$15,25000,D4=$J$16,25000,D4=$J$17,25000,D4=$J$18,25000,D4=$J$19,25000,D4=$J$20,15000,D4=$J$21,15000,D4=$J$22,15000,D4=$J$23,15000,D4=$J$24,15000,D4=$J$25,15000,D4=$J$26,15000,D4=$J$27,15000,D4=$J$28,15000,D4=$J$29,15000,D4=$J$30,15000,D4=$J$31,15000,D4=$J$32,15000,D4=$J$33,15000,D4=$J$34,15000,D4=$J$35,15000)} | I4: 4 | J4: 福祉型障害児入所施設
A5: 4 | F5: 厚木市 | H5: {=_xlfn.IFS(D5="","",D5=$J$1,E5*7500,D5=$J$2,E5*7500,D5=$J$3,E5*7500,D5=$J$4,E5*7500,D5=$J$5,E5*7500,D5=$J$6,E5*7500,D5=$J$7,25000,D5=$J$8,25000,D5=$J$9,25000,D5=$J$10,25000,D5=$J$11,25000,D5=$J$12,25000,D5=$J$13,25000,D5=$J$14,25000,D5=$J$15,25000,D5=$J$16,25000,D5=$J$17,25000,D5=$J$18,25000,D5=$J$19,25000,D5=$J$20,15000,D5=$J$21,15000,D5=$J$22,15000,D5=$J$23,15000,D5=$J$24,15000,D5=$J$25,15000,D5=$J$26,15000,D5=$J$27,15000,D5=$J$28,15000,D5=$J$29,15000,D5=$J$30,15000,D5=$J$31,15000,D5=$J$32,15000,D5=$J$33,15000,D5=$J$34,15000,D5=$J$35,15000)} | I5: 5 | J5: 短期入所（医療型を除く）
A6: 5 | F6: 厚木市 | H6: {=_xlfn.IFS(D6="","",D6=$J$1,E6*7500,D6=$J$2,E6*7500,D6=$J$3,E6*7500,D6=$J$4,E6*7500,D6=$J$5,E6*7500,D6=$J$6,E6*7500,D6=$J$7,25000,D6=$J$8,25000,D6=$J$9,25000,D6=$J$10,25000,D6=$J$11,25000,D6=$J$12,25000,D6=$J$13,25000,D6=$J$14,25000,D6=$J$15,25000,D6=$J$16,25000,D6=$J$17,25000,D6=$J$18,25000,D6=$J$19,25000,D6=$J$20,15000,D6=$J$21,15000,D6=$J$22,15000,D6=$J$23,15000,D6=$J$24,15000,D6=$J$25,15000,D6=$J$26,15000,D6=$J$27,15000,D6=$J$28,15000,D6=$J$29,15000,D6=$J$30,15000,D6=$J$31,15000,D6=$J$32,15000,D6=$J$33,15000,D6=$J$34,15000,D6=$J$35,15000)} | I6: 6 | J6: 福祉ホーム
A7: 6 | F7: 厚木市 | H7: {=_xlfn.IFS(D7="","",D7=$J$1,E7*7500,D7=$J$2,E7*7500,D7=$J$3,E7*7500,D7=$J$4,E7*7500,D7=$J$5,E7*7500,D7=$J$6,E7*7500,D7=$J$7,25000,D7=$J$8,25000,D7=$J$9,25000,D7=$J$10,25000,D7=$J$11,25000,D7=$J$12,25000,D7=$J$13,25000,D7=$J$14,25000,D7=$J$15,25000,D7=$J$16,25000,D7=$J$17,25000,D7=$J$18,25000,D7=$J$19,25000,D7=$J$20,15000,D7=$J$21,15000,D7=$J$22,15000,D7=$J$23,15000,D7=$J$24,15000,D7=$J$25,15000,D7=$J$26,15000,D7=$J$27,15000,D7=$J$28,15000,D7=$J$29,15000,D7=$J$30,15000,D7=$J$31,15000,D7=$J$32,15000,D7=$J$33,15000,D7=$J$34,15000,D7=$J$35,15000)} | I7: 7 | J7: 生活介護
A8: 7 | F8: 厚木市 | H8: {=_xlfn.IFS(D8="","",D8=$J$1,E8*7500,D8=$J$2,E8*7500,D8=$J$3,E8*7500,D8=$J$4,E8*7500,D8=$J$5,E8*7500,D8=$J$6,E8*7500,D8=$J$7,25000,D8=$J$8,25000,D8=$J$9,25000,D8=$J$10,25000,D8=$J$11,25000,D8=$J$12,25000,D8=$J$13,25000,D8=$J$14,25000,D8=$J$15,25000,D8=$J$16,25000,D8=$J$17,25000,D8=$J$18,25000,D8=$J$19,25000,D8=$J$20,15000,D8=$J$21,15000,D8=$J$22,15000,D8=$J$23,15000,D8=$J$24,15000,D8=$J$25,15000,D8=$J$26,15000,D8=$J$27,15000,D8=$J$28,15000,D8=$J$29,15000,D8=$J$30,15000,D8=$J$31,15000,D8=$J$32,15000,D8=$J$33,15000,D8=$J$34,15000,D8=$J$35,15000)} | I8: 8 | J8: 就労移行支援
A9: 8 | F9: 厚木市 | H9: {=_xlfn.IFS(D9="","",D9=$J$1,E9*7500,D9=$J$2,E9*7500,D9=$J$3,E9*7500,D9=$J$4,E9*7500,D9=$J$5,E9*7500,D9=$J$6,E9*7500,D9=$J$7,25000,D9=$J$8,25000,D9=$J$9,25000,D9=$J$10,25000,D9=$J$11,25000,D9=$J$12,25000,D9=$J$13,25000,D9=$J$14,25000,D9=$J$15,25000,D9=$J$16,25000,D9=$J$17,25000,D9=$J$18,25000,D9=$J$19,25000,D9=$J$20,15000,D9=$J$21,15000,D9=$J$22,15000,D9=$J$23,15000,D9=$J$24,15000,D9=$J$25,15000,D9=$J$26,15000,D9=$J$27,15000,D9=$J$28,15000,D9=$J$29,15000,D9=$J$30,15000,D9=$J$31,15000,D9=$J$32,15000,D9=$J$33,15000,D9=$J$34,15000,D9=$J$35,15000)} | I9: 9 | J9: 自立訓練（機能訓練）
A10: 9 | F10: 厚木市 | H10: {=_xlfn.IFS(D10="","",D10=$J$1,E10*7500,D10=$J$2,E10*7500,D10=$J$3,E10*7500,D10=$J$4,E10*7500,D10=$J$5,E10*7500,D10=$J$6,E10*7500,D10=$J$7,25000,D10=$J$8,25000,D10=$J$9,25000,D10=$J$10,25000,D10=$J$11,25000,D10=$J$12,25000,D10=$J$13,25000,D10=$J$14,25000,D10=$J$15,25000,D10=$J$16,25000,D10=$J$17,25000,D10=$J$18,25000,D10=$J$19,25000,D10=$J$20,15000,D10=$J$21,15000,D10=$J$22,15000,D10=$J$23,15000,D10=$J$24,15000,D10=$J$25,15000,D10=$J$26,15000,D10=$J$27,15000,D10=$J$28,15000,D10=$J$29,15000,D10=$J$30,15000,D10=$J$31,15000,D10=$J$32,15000,D10=$J$33,15000,D10=$J$34,15000,D10=$J$35,15000)} | I10: 10 | J10: 自立訓練（生活訓練（宿泊型は除く））
A11: 10 | F11: 厚木市 | H11: {=_xlfn.IFS(D11="","",D11=$J$1,E11*7500,D11=$J$2,E11*7500,D11=$J$3,E11*7500,D11=$J$4,E11*7500,D11=$J$5,E11*7500,D11=$J$6,E11*7500,D11=$J$7,25000,D11=$J$8,25000,D11=$J$9,25000,D11=$J$10,25000,D11=$J$11,25000,D11=$J$12,25000,D11=$J$13,25000,D11=$J$14,25000,D11=$J$15,25000,D11=$J$16,25000,D11=$J$17,25000,D11=$J$18,25000,D11=$J$19,25000,D11=$J$20,15000,D11=$J$21,15000,D11=$J$22,15000,D11=$J$23,15000,D11=$J$24,15000,D11=$J$25,15000,D11=$J$26,15000,D11=$J$27,15000,D11=$J$28,15000,D11=$J$29,15000,D11=$J$30,15000,D11=$J$31,15000,D11=$J$32,15000,D11=$J$33,15000,D11=$J$34,15000,D11=$J$35,15000)} | I11: 11 | J11: 就労継続支援Ａ型
A12: 11 | F12: 厚木市 | H12: {=_xlfn.IFS(D12="","",D12=$J$1,E12*7500,D12=$J$2,E12*7500,D12=$J$3,E12*7500,D12=$J$4,E12*7500,D12=$J$5,E12*7500,D12=$J$6,E12*7500,D12=$J$7,25000,D12=$J$8,25000,D12=$J$9,25000,D12=$J$10,25000,D12=$J$11,25000,D12=$J$12,25000,D12=$J$13,25000,D12=$J$14,25000,D12=$J$15,25000,D12=$J$16,25000,D12=$J$17,25000,D12=$J$18,25000,D12=$J$19,25000,D12=$J$20,15000,D12=$J$21,15000,D12=$J$22,15000,D12=$J$23,15000,D12=$J$24,15000,D12=$J$25,15000,D12=$J$26,15000,D12=$J$27,15000,D12=$J$28,15000,D12=$J$29,15000,D12=$J$30,15000,D12=$J$31,15000,D12=$J$32,15000,D12=$J$33,15000,D12=$J$34,15000,D12=$J$35,15000)} | I12: 12 | J12: 就労継続支援Ｂ型
A13: 12 | F13: 厚木市 | H13: {=_xlfn.IFS(D13="","",D13=$J$1,E13*7500,D13=$J$2,E13*7500,D13=$J$3,E13*7500,D13=$J$4,E13*7500,D13=$J$5,E13*7500,D13=$J$6,E13*7500,D13=$J$7,25000,D13=$J$8,25000,D13=$J$9,25000,D13=$J$10,25000,D13=$J$11,25000,D13=$J$12,25000,D13=$J$13,25000,D13=$J$14,25000,D13=$J$15,25000,D13=$J$16,25000,D13=$J$17,25000,D13=$J$18,25000,D13=$J$19,25000,D13=$J$20,15000,D13=$J$21,15000,D13=$J$22,15000,D13=$J$23,15000,D13=$J$24,15000,D13=$J$25,15000,D13=$J$26,15000,D13=$J$27,15000,D13=$J$28,15000,D13=$J$29,15000,D13=$J$30,15000,D13=$J$31,15000,D13=$J$32,15000,D13=$J$33,15000,D13=$J$34,15000,D13=$J$35,15000)} | I13: 13 | J13: 就労定着支援
... A26: 25 | F26: 厚木市 | H26: {=_xlfn.IFS(D26="","",D26=$J$1,E26*7500,D26=$J$2,E26*7500,D26=$J$3,E26*7500,D26=$J$4,E26*7500,D26=$J$5,E26*7500,D26=$J$6,E26*7500,D26=$J$7,25000,D26=$J$8,25000,D26=$J$9,25000,D26=$J$10,25000,D26=$J$11,25000,D26=$J$12,25000,D26=$J$13,25000,D26=$J$14,25000,D26=$J$15,25000,D26=$J$16,25000,D26=$J$17,25000,D26=$J$18,25000,D26=$J$19,25000,D26=$J$20,15000,D26=$J$21,15000,D26=$J$22,15000,D26=$J$23,15000,D26=$J$24,15000,D26=$J$25,15000,D26=$J$26,15000,D26=$J$27,15000,D26=$J$28,15000,D26=$J$29,15000,D26=$J$30,15000,D26=$J$31,15000,D26=$J$32,15000,D26=$J$33,15000,D26=$J$34,15000,D26=$J$35,15000)} | I26: 26 | J26: 計画相談支援
I27: 27 | J27: 地域移行支援
I28: 28 | J28: 地域定着支援
I29: 29 | J29: 自立生活援助
I30: 30 | J30: 障害児相談支援
I31: 31 | J31: 障害者相談支援事業
I32: 32 | J32: 基幹相談支援
I33: 33 | J33: 移動支援
I34: 34 | J34: 意思疎通支援
I35: 35 | J35: 訪問入浴サービス

Sheet 介護保険指定事業所一覧
A1: No. | B1: 事業所番号 | C1: 施設・事業所名 | D1: 事業所所在地
A2: 1 | D2: 厚木市
A3: 2 | D3: 厚木市
A4: 3 | D4: 厚木市
A5: 4 | D5: 厚木市
A6: 5 | D6: 厚木市
A7: 6 | D7: 厚木市
A8: 7 | D8: 厚木市
A9: 8 | D9: 厚木市
A10: 9 | D10: 厚木市
A11: 10 | D11: 厚木市
A12: 11 | D12: 厚木市
A13: 12 | D13: 厚木市
... A26: 25 | D26: 厚木市

Sheet 決定通知書
C2: 厚木市障害福祉サービス事業所等物価高騰対応支援金交付決定通知書
L4: 令和 年 月 日
C6: 《法人名》
C7: 《法人代表者名》
K10: 厚木市長 山口 貴裕
J11: （公印省略）
C12: 先に申請のありました「厚木市障害福祉サービス事業所等物価高騰対応支援金」については、次のとおり決定したので通知します。
B15: １ 事業名称 | F15: 厚木市障害福祉サービス事業所等物価高騰対応支援金
B16: ２ 補助金交付決定額 | O16: 円
B17: ３ 交付条件 | F17: （１） | G17: 当該支援金は当該事業の遂行のためにのみ使用し、他の用途へ使用しないこと。
F18: (2) | G18: 不正な方法等により支援金の交付を受けたと判明した場合には、交付の決定が取り消され、交付された支援金の全部の返還を命ずることができるものであること。
F19: (3) | G19: 令和９年３月31日までに、障害福祉サービス事業所等の廃止(届出を行わない事実上の廃止を含む。)又は休止(届出を行わない事実上の休止を含む。)をしたときは、支援金の全部又は一部の返還を命ずることができるものであること。
F20: (4) | G20: 市の監査を求められたときは、関係書類を提示すること。

Sheet 請求書
G1: 請 求 書 | Y1: 黄色セルに入力をお願いします。
Y2: 入力後は、塗りつぶしなくなります。
B3: 厚木市長
Q4: 令和 | S4: 年 | U4: 月 | W4: 日
B6: 下記金額を請求します。
C7: 金 額 | H7: =申請書!D16 -> 0 | Y7: ←『金額』自動で反映
B10: 件名 厚木市障害福祉サービス事業所等物価高騰対応支援金として
B12: 債権者
B13: 〒 | E13: -
B14: 住所 | F14: =申請書!I8 -> 0 | Y14: ←『住所』自動で反映
B15: 電話
B16: 法人名 | F16: =申請書!I9 -> 0 | Y16: ←『法人名』自動で反映
B17: 法人代表者 | F17: =申請書!I10 -> 0 | Y17: ←『法人代表者』自動で反映
B19: 振込先
B20: 金融機関名
B22: 預金種別
B23: 口座番号
B24: フリガナ
B25: 口座名義人
N27: 請求書の発行に係る責任者
N28: 氏名
N29: 電話番号
